BEGIN:VCALENDAR
VERSION:2.0
PRODID:-//Rotary Club of Salem - ECPv6.15.11//NONSGML v1.0//EN
CALSCALE:GREGORIAN
METHOD:PUBLISH
X-WR-CALNAME:Rotary Club of Salem
X-ORIGINAL-URL:https://rotaryclubofsalem.org
X-WR-CALDESC:Events for Rotary Club of Salem
REFRESH-INTERVAL;VALUE=DURATION:PT1H
X-Robots-Tag:noindex
X-PUBLISHED-TTL:PT1H
BEGIN:VTIMEZONE
TZID:America/New_York
BEGIN:DAYLIGHT
TZOFFSETFROM:-0500
TZOFFSETTO:-0400
TZNAME:EDT
DTSTART:20170312T070000
END:DAYLIGHT
BEGIN:STANDARD
TZOFFSETFROM:-0400
TZOFFSETTO:-0500
TZNAME:EST
DTSTART:20171105T060000
END:STANDARD
BEGIN:DAYLIGHT
TZOFFSETFROM:-0500
TZOFFSETTO:-0400
TZNAME:EDT
DTSTART:20180311T070000
END:DAYLIGHT
BEGIN:STANDARD
TZOFFSETFROM:-0400
TZOFFSETTO:-0500
TZNAME:EST
DTSTART:20181104T060000
END:STANDARD
BEGIN:DAYLIGHT
TZOFFSETFROM:-0500
TZOFFSETTO:-0400
TZNAME:EDT
DTSTART:20190310T070000
END:DAYLIGHT
BEGIN:STANDARD
TZOFFSETFROM:-0400
TZOFFSETTO:-0500
TZNAME:EST
DTSTART:20191103T060000
END:STANDARD
BEGIN:DAYLIGHT
TZOFFSETFROM:-0500
TZOFFSETTO:-0400
TZNAME:EDT
DTSTART:20200308T070000
END:DAYLIGHT
BEGIN:STANDARD
TZOFFSETFROM:-0400
TZOFFSETTO:-0500
TZNAME:EST
DTSTART:20201101T060000
END:STANDARD
BEGIN:DAYLIGHT
TZOFFSETFROM:-0500
TZOFFSETTO:-0400
TZNAME:EDT
DTSTART:20210314T070000
END:DAYLIGHT
BEGIN:STANDARD
TZOFFSETFROM:-0400
TZOFFSETTO:-0500
TZNAME:EST
DTSTART:20211107T060000
END:STANDARD
BEGIN:DAYLIGHT
TZOFFSETFROM:-0500
TZOFFSETTO:-0400
TZNAME:EDT
DTSTART:20220313T070000
END:DAYLIGHT
BEGIN:STANDARD
TZOFFSETFROM:-0400
TZOFFSETTO:-0500
TZNAME:EST
DTSTART:20221106T060000
END:STANDARD
BEGIN:DAYLIGHT
TZOFFSETFROM:-0500
TZOFFSETTO:-0400
TZNAME:EDT
DTSTART:20230312T070000
END:DAYLIGHT
BEGIN:STANDARD
TZOFFSETFROM:-0400
TZOFFSETTO:-0500
TZNAME:EST
DTSTART:20231105T060000
END:STANDARD
BEGIN:DAYLIGHT
TZOFFSETFROM:-0500
TZOFFSETTO:-0400
TZNAME:EDT
DTSTART:20240310T070000
END:DAYLIGHT
BEGIN:STANDARD
TZOFFSETFROM:-0400
TZOFFSETTO:-0500
TZNAME:EST
DTSTART:20241103T060000
END:STANDARD
BEGIN:DAYLIGHT
TZOFFSETFROM:-0500
TZOFFSETTO:-0400
TZNAME:EDT
DTSTART:20250309T070000
END:DAYLIGHT
BEGIN:STANDARD
TZOFFSETFROM:-0400
TZOFFSETTO:-0500
TZNAME:EST
DTSTART:20251102T060000
END:STANDARD
END:VTIMEZONE
BEGIN:VEVENT
DTSTART;TZID=America/New_York:20240315T080000
DTEND;TZID=America/New_York:20240317T170000
DTSTAMP:20260423T015425
CREATED:20230621T195144Z
LAST-MODIFIED:20230621T195538Z
UID:7231-1710489600-1710694800@rotaryclubofsalem.org
SUMMARY:Rotary District 7570 Conference
DESCRIPTION:Mark your calendar for the 2024 Rotary 7570 District Conference to be held at the Inn at Virginia Tech and Skelton Conference Center in Blacksburg\, Virginia from March 15-17\, 2024.
URL:https://rotaryclubofsalem.org/event/rotary-district-7570-conference/
LOCATION:Inn at Virginia Tech and SCC\, VA\, United States
CATEGORIES:Club Fellowship,Club Service,Community Service,D7570,International Service,RI
END:VEVENT
BEGIN:VEVENT
DTSTART;VALUE=DATE:20230303
DTEND;VALUE=DATE:20230306
DTSTAMP:20260423T015425
CREATED:20221109T172017Z
LAST-MODIFIED:20221109T172225Z
UID:7112-1677801600-1678060799@rotaryclubofsalem.org
SUMMARY:District 7570 Conference
DESCRIPTION:The 2023 District 7570 Convention will be held on March 3-5\, 2023 at the Salem Civic Center.
URL:https://rotaryclubofsalem.org/event/district-7570-convention/
LOCATION:Salem Civic Center\, 1001 Roanoke Boulevard\, Salem\, VA\, 24153\, United States
CATEGORIES:Club Fellowship,Club Meetings,Club Service,Community Service,D7570,International Service,RI
END:VEVENT
BEGIN:VEVENT
DTSTART;TZID=America/New_York:20221110T120000
DTEND;TZID=America/New_York:20221110T130000
DTSTAMP:20260423T015425
CREATED:20221025T210602Z
LAST-MODIFIED:20221109T171136Z
UID:7101-1668081600-1668085200@rotaryclubofsalem.org
SUMMARY:Club Meeting
DESCRIPTION:Our program today is Paul Harris Fellow presentations.
URL:https://rotaryclubofsalem.org/event/club-meeting-75/
LOCATION:Salem Civic Center\, 1001 Roanoke Boulevard\, Salem\, VA\, 24153\, United States
CATEGORIES:Club Meetings,RI
END:VEVENT
BEGIN:VEVENT
DTSTART;TZID=America/New_York:20211111T080000
DTEND;TZID=America/New_York:20211111T170000
DTSTAMP:20260423T015425
CREATED:20210911T162624Z
LAST-MODIFIED:20210911T162722Z
UID:6866-1636617600-1636650000@rotaryclubofsalem.org
SUMMARY:Club Meeting
DESCRIPTION:Our program will be the announcement of Paul Harris Fellows recognitions.
URL:https://rotaryclubofsalem.org/event/6866/
LOCATION:Salem Civic Center\, 1001 Roanoke Boulevard\, Salem\, VA\, 24153\, United States
CATEGORIES:Club Fellowship,Club Meetings,Club Service,Community Service,International Service,RI
END:VEVENT
BEGIN:VEVENT
DTSTART;TZID=America/New_York:20201001T120000
DTEND;TZID=America/New_York:20201001T130000
DTSTAMP:20260423T015425
CREATED:20200908T233003Z
LAST-MODIFIED:20200908T233003Z
UID:6658-1601553600-1601557200@rotaryclubofsalem.org
SUMMARY:Club Meeting
DESCRIPTION:Our speaker will be Garry Norris our Club’s District Annual Giving Committee Chair  who’s topic will be “The Rotary Foundation”.
URL:https://rotaryclubofsalem.org/event/club-meeting-11/
LOCATION:Salem Civic Center\, 1001 Roanoke Boulevard\, Salem\, VA\, 24153\, United States
CATEGORIES:Club Meetings,Community Service,International Service,RI
END:VEVENT
BEGIN:VEVENT
DTSTART;VALUE=DATE:20200313
DTEND;VALUE=DATE:20200316
DTSTAMP:20260423T015425
CREATED:20200130T194052Z
LAST-MODIFIED:20200130T194052Z
UID:6420-1584057600-1584316799@rotaryclubofsalem.org
SUMMARY:District 7570 Conference
DESCRIPTION:7570 Rotary District Governor Tim Carter and his home Rotary Club\, the Rotary Club of Woodstock\, Virginia\, invite you to the 2020 District Conference at the Omni Homestead Resort in Hot Springs\, Virginia. \nTo register and book your room at the Omni Homestead Resort visit… www.rotary7570conference.com \n 
URL:https://rotaryclubofsalem.org/event/district-7570-conference-4/
LOCATION:The Omni Homestead Resort\, 7696 Sam Snead Highway\, Hot Springs\, VA\, 24445\, United States
CATEGORIES:Club Fellowship,D7570,RI
END:VEVENT
BEGIN:VEVENT
DTSTART;TZID=America/New_York:20191114T120000
DTEND;TZID=America/New_York:20191114T130000
DTSTAMP:20260423T015425
CREATED:20190905T172916Z
LAST-MODIFIED:20190905T172916Z
UID:6361-1573732800-1573736400@rotaryclubofsalem.org
SUMMARY:Club Meeting
DESCRIPTION:The topic of today’s program is… Paul Harris Fellow Awards
URL:https://rotaryclubofsalem.org/event/club-meeting-275/
LOCATION:Salem Civic Center\, 1001 Roanoke Boulevard\, Salem\, VA\, 24153\, United States
CATEGORIES:Club Meetings,RI
END:VEVENT
BEGIN:VEVENT
DTSTART;TZID=America/New_York:20181213T120000
DTEND;TZID=America/New_York:20181213T130000
DTSTAMP:20260423T015425
CREATED:20180916T203645Z
LAST-MODIFIED:20181031T153922Z
UID:6136-1544702400-1544706000@rotaryclubofsalem.org
SUMMARY:Club Meeting
DESCRIPTION:Today we honor our Paul Harris Fellow and recognize new recipients of the award.
URL:https://rotaryclubofsalem.org/event/club-meeting-232/
LOCATION:Salem Civic Center\, 1001 Roanoke Boulevard\, Salem\, VA\, 24153\, United States
CATEGORIES:Club Meetings,RI
END:VEVENT
BEGIN:VEVENT
DTSTART;TZID=America/New_York:20181129T120000
DTEND;TZID=America/New_York:20181129T130000
DTSTAMP:20260423T015425
CREATED:20180916T192424Z
LAST-MODIFIED:20181031T154240Z
UID:6131-1543492800-1543496400@rotaryclubofsalem.org
SUMMARY:Club Meeting
DESCRIPTION:Today our program is The Rotary Foundation presented by Lee Beam.
URL:https://rotaryclubofsalem.org/event/club-meeting-230/
LOCATION:Salem Civic Center\, 1001 Roanoke Boulevard\, Salem\, VA\, 24153\, United States
CATEGORIES:Club Meetings,RI
END:VEVENT
END:VCALENDAR