BEGIN:VCALENDAR
VERSION:2.0
PRODID:-//Rotary Club of Salem - ECPv6.15.11//NONSGML v1.0//EN
CALSCALE:GREGORIAN
METHOD:PUBLISH
X-WR-CALNAME:Rotary Club of Salem
X-ORIGINAL-URL:https://rotaryclubofsalem.org
X-WR-CALDESC:Events for Rotary Club of Salem
REFRESH-INTERVAL;VALUE=DURATION:PT1H
X-Robots-Tag:noindex
X-PUBLISHED-TTL:PT1H
BEGIN:VTIMEZONE
TZID:America/New_York
BEGIN:DAYLIGHT
TZOFFSETFROM:-0500
TZOFFSETTO:-0400
TZNAME:EDT
DTSTART:20170312T070000
END:DAYLIGHT
BEGIN:STANDARD
TZOFFSETFROM:-0400
TZOFFSETTO:-0500
TZNAME:EST
DTSTART:20171105T060000
END:STANDARD
BEGIN:DAYLIGHT
TZOFFSETFROM:-0500
TZOFFSETTO:-0400
TZNAME:EDT
DTSTART:20180311T070000
END:DAYLIGHT
BEGIN:STANDARD
TZOFFSETFROM:-0400
TZOFFSETTO:-0500
TZNAME:EST
DTSTART:20181104T060000
END:STANDARD
BEGIN:DAYLIGHT
TZOFFSETFROM:-0500
TZOFFSETTO:-0400
TZNAME:EDT
DTSTART:20190310T070000
END:DAYLIGHT
BEGIN:STANDARD
TZOFFSETFROM:-0400
TZOFFSETTO:-0500
TZNAME:EST
DTSTART:20191103T060000
END:STANDARD
BEGIN:DAYLIGHT
TZOFFSETFROM:-0500
TZOFFSETTO:-0400
TZNAME:EDT
DTSTART:20200308T070000
END:DAYLIGHT
BEGIN:STANDARD
TZOFFSETFROM:-0400
TZOFFSETTO:-0500
TZNAME:EST
DTSTART:20201101T060000
END:STANDARD
END:VTIMEZONE
BEGIN:VEVENT
DTSTART;TZID=America/New_York:20190801T120000
DTEND;TZID=America/New_York:20190801T130000
DTSTAMP:20260419T231943
CREATED:20190720T163505Z
LAST-MODIFIED:20190729T190050Z
UID:6290-1564660800-1564664400@rotaryclubofsalem.org
SUMMARY:Club Meeting
DESCRIPTION:NOTE: Location Changed to Salem High School…  Our program will be Dr. Alan Siebert with an update on  our Salem High School.
URL:https://rotaryclubofsalem.org/event/club-meeting-262/
LOCATION:Salem High School\, 400 Spartan Drive\, Salemlem\, 24153\, United States
CATEGORIES:Club Meetings
END:VEVENT
BEGIN:VEVENT
DTSTART;TZID=America/New_York:20190725T120000
DTEND;TZID=America/New_York:20190725T130000
DTSTAMP:20260419T231943
CREATED:20190720T163037Z
LAST-MODIFIED:20190720T163037Z
UID:6288-1564056000-1564059600@rotaryclubofsalem.org
SUMMARY:Club Meeting
DESCRIPTION:Our speaker today is Lateefah Trent – Mentor Coordinator\, Total Action for Progress\, her topic is “The Fathers First initiative”.
URL:https://rotaryclubofsalem.org/event/club-meeting-261/
LOCATION:Salem Civic Center\, 1001 Roanoke Boulevard\, Salem\, VA\, 24153\, United States
CATEGORIES:Club Meetings
END:VEVENT
BEGIN:VEVENT
DTSTART;TZID=America/New_York:20190627T120000
DTEND;TZID=America/New_York:20190627T130000
DTSTAMP:20260419T231943
CREATED:20180916T210453Z
LAST-MODIFIED:20180916T210453Z
UID:6192-1561636800-1561640400@rotaryclubofsalem.org
SUMMARY:Club Meeting
DESCRIPTION:Last Meeting!
URL:https://rotaryclubofsalem.org/event/club-meeting-260/
LOCATION:Salem Civic Center\, 1001 Roanoke Boulevard\, Salem\, VA\, 24153\, United States
CATEGORIES:Club Meetings
END:VEVENT
BEGIN:VEVENT
DTSTART;TZID=America/New_York:20190620T120000
DTEND;TZID=America/New_York:20190620T130000
DTSTAMP:20260419T231943
CREATED:20180916T210355Z
LAST-MODIFIED:20180916T210355Z
UID:6190-1561032000-1561035600@rotaryclubofsalem.org
SUMMARY:Club Meeting
DESCRIPTION:TBA
URL:https://rotaryclubofsalem.org/event/club-meeting-259/
LOCATION:Salem Civic Center\, 1001 Roanoke Boulevard\, Salem\, VA\, 24153\, United States
CATEGORIES:Club Meetings
END:VEVENT
BEGIN:VEVENT
DTSTART;TZID=America/New_York:20190613T120000
DTEND;TZID=America/New_York:20190613T130000
DTSTAMP:20260419T231943
CREATED:20180916T210254Z
LAST-MODIFIED:20180916T210254Z
UID:6188-1560427200-1560430800@rotaryclubofsalem.org
SUMMARY:Club Meeting
DESCRIPTION:TBA
URL:https://rotaryclubofsalem.org/event/club-meeting-258/
LOCATION:Salem Civic Center\, 1001 Roanoke Boulevard\, Salem\, VA\, 24153\, United States
CATEGORIES:Club Meetings
END:VEVENT
BEGIN:VEVENT
DTSTART;TZID=America/New_York:20190606T120000
DTEND;TZID=America/New_York:20190606T130000
DTSTAMP:20260419T231943
CREATED:20180916T210204Z
LAST-MODIFIED:20180916T210204Z
UID:6186-1559822400-1559826000@rotaryclubofsalem.org
SUMMARY:Club Meeting
DESCRIPTION:TBA
URL:https://rotaryclubofsalem.org/event/club-meeting-257/
LOCATION:Salem Civic Center\, 1001 Roanoke Boulevard\, Salem\, VA\, 24153\, United States
CATEGORIES:Club Meetings
END:VEVENT
BEGIN:VEVENT
DTSTART;TZID=America/New_York:20190530T120000
DTEND;TZID=America/New_York:20190530T130000
DTSTAMP:20260419T231943
CREATED:20180916T210112Z
LAST-MODIFIED:20190405T172652Z
UID:6184-1559217600-1559221200@rotaryclubofsalem.org
SUMMARY:Club Meeting
DESCRIPTION:Los San Bernardos de Salem participate in the “Fun Cup”
URL:https://rotaryclubofsalem.org/event/club-meeting-256/
LOCATION:Salem Civic Center\, 1001 Roanoke Boulevard\, Salem\, VA\, 24153\, United States
CATEGORIES:Club Meetings
END:VEVENT
BEGIN:VEVENT
DTSTART;TZID=America/New_York:20190523T120000
DTEND;TZID=America/New_York:20190523T130000
DTSTAMP:20260419T231943
CREATED:20180916T210021Z
LAST-MODIFIED:20190405T172448Z
UID:6182-1558612800-1558616400@rotaryclubofsalem.org
SUMMARY:Club Meeting
DESCRIPTION:Our program is “To Breathe or not to Breathe” presented by Kathy Pellant\, Manager of Sleep Services\, Carilion Clinic.
URL:https://rotaryclubofsalem.org/event/club-meeting-255/
LOCATION:Salem Civic Center\, 1001 Roanoke Boulevard\, Salem\, VA\, 24153\, United States
CATEGORIES:Club Meetings
END:VEVENT
BEGIN:VEVENT
DTSTART;TZID=America/New_York:20190516T120000
DTEND;TZID=America/New_York:20190516T130000
DTSTAMP:20260419T231943
CREATED:20180916T205933Z
LAST-MODIFIED:20190405T172105Z
UID:6180-1558008000-1558011600@rotaryclubofsalem.org
SUMMARY:Club Meeting
DESCRIPTION:Our program is Bob Goodlatte – “What I Learned During a Quarter Century in Congress”.
URL:https://rotaryclubofsalem.org/event/club-meeting-254/
LOCATION:Salem Civic Center\, 1001 Roanoke Boulevard\, Salem\, VA\, 24153\, United States
CATEGORIES:Club Meetings
END:VEVENT
BEGIN:VEVENT
DTSTART;TZID=America/New_York:20190509T120000
DTEND;TZID=America/New_York:20190509T130000
DTSTAMP:20260419T231943
CREATED:20180916T205842Z
LAST-MODIFIED:20190405T171722Z
UID:6178-1557403200-1557406800@rotaryclubofsalem.org
SUMMARY:Club Meeting
DESCRIPTION:Our program is presented by our own Andy Seiler\,  “Arrivederci Salem\, Ciao Rome”
URL:https://rotaryclubofsalem.org/event/club-meeting-253/
LOCATION:Salem Civic Center\, 1001 Roanoke Boulevard\, Salem\, VA\, 24153\, United States
CATEGORIES:Club Meetings
END:VEVENT
BEGIN:VEVENT
DTSTART;TZID=America/New_York:20190502T120000
DTEND;TZID=America/New_York:20190502T130000
DTSTAMP:20260419T231943
CREATED:20180916T205746Z
LAST-MODIFIED:20190405T171504Z
UID:6176-1556798400-1556802000@rotaryclubofsalem.org
SUMMARY:Club Meeting
DESCRIPTION:Our program is presented by Bernard Marie\, “I was there on D-Day”
URL:https://rotaryclubofsalem.org/event/club-meeting-252/
LOCATION:Salem Civic Center\, 1001 Roanoke Boulevard\, Salem\, VA\, 24153\, United States
CATEGORIES:Club Meetings
END:VEVENT
BEGIN:VEVENT
DTSTART;TZID=America/New_York:20190425T120000
DTEND;TZID=America/New_York:20190425T130000
DTSTAMP:20260419T231943
CREATED:20180916T205654Z
LAST-MODIFIED:20190405T171239Z
UID:6174-1556193600-1556197200@rotaryclubofsalem.org
SUMMARY:Club Meeting
DESCRIPTION:Our program today is Larry Legrande\, the last catcher of the greatest pitcher. “Playing Baseball in the major Negro Leagues”
URL:https://rotaryclubofsalem.org/event/club-meeting-251/
LOCATION:Salem Civic Center\, 1001 Roanoke Boulevard\, Salem\, VA\, 24153\, United States
CATEGORIES:Club Meetings
END:VEVENT
BEGIN:VEVENT
DTSTART;TZID=America/New_York:20190418T120000
DTEND;TZID=America/New_York:20190418T130000
DTSTAMP:20260419T231943
CREATED:20180916T205600Z
LAST-MODIFIED:20190405T170742Z
UID:6172-1555588800-1555592400@rotaryclubofsalem.org
SUMMARY:Club Meeting
DESCRIPTION:Our presenters today have won multiple state championships… the Salem High School Forensics Team.
URL:https://rotaryclubofsalem.org/event/club-meeting-250/
LOCATION:Salem Civic Center\, 1001 Roanoke Boulevard\, Salem\, VA\, 24153\, United States
CATEGORIES:Club Meetings
END:VEVENT
BEGIN:VEVENT
DTSTART;TZID=America/New_York:20190411T120000
DTEND;TZID=America/New_York:20190411T130000
DTSTAMP:20260419T231943
CREATED:20180916T205509Z
LAST-MODIFIED:20190405T172939Z
UID:6170-1554984000-1554987600@rotaryclubofsalem.org
SUMMARY:Club Meeting
DESCRIPTION:Our program today is Donald Davis award-winning Storyteller of the National Storytelling Network. Donald Davis is one of America’s favorite master storytellers\, having received both the Circle of Excellence Award and the Lifetime Achievement Award from the National Storytelling Network.
URL:https://rotaryclubofsalem.org/event/club-meeting-249/
LOCATION:Salem Civic Center\, 1001 Roanoke Boulevard\, Salem\, VA\, 24153\, United States
CATEGORIES:Club Meetings
END:VEVENT
BEGIN:VEVENT
DTSTART;TZID=America/New_York:20190404T120000
DTEND;TZID=America/New_York:20190404T130000
DTSTAMP:20260419T231943
CREATED:20180916T205413Z
LAST-MODIFIED:20180916T205413Z
UID:6168-1554379200-1554382800@rotaryclubofsalem.org
SUMMARY:Club Meeting
DESCRIPTION:Outstanding Citizen Award
URL:https://rotaryclubofsalem.org/event/club-meeting-248/
LOCATION:Salem Civic Center\, 1001 Roanoke Boulevard\, Salem\, VA\, 24153\, United States
CATEGORIES:Club Meetings
END:VEVENT
BEGIN:VEVENT
DTSTART;TZID=America/New_York:20190328T120000
DTEND;TZID=America/New_York:20190328T130000
DTSTAMP:20260419T231943
CREATED:20180916T205312Z
LAST-MODIFIED:20180916T205312Z
UID:6166-1553774400-1553778000@rotaryclubofsalem.org
SUMMARY:Club Meeting
DESCRIPTION:TBA
URL:https://rotaryclubofsalem.org/event/club-meeting-247/
LOCATION:Salem Civic Center\, 1001 Roanoke Boulevard\, Salem\, VA\, 24153\, United States
CATEGORIES:Club Meetings
END:VEVENT
BEGIN:VEVENT
DTSTART;TZID=America/New_York:20190321T120000
DTEND;TZID=America/New_York:20190321T130000
DTSTAMP:20260419T231943
CREATED:20180916T205217Z
LAST-MODIFIED:20180916T205217Z
UID:6164-1553169600-1553173200@rotaryclubofsalem.org
SUMMARY:Club Meeting
DESCRIPTION:RYLA Attendees
URL:https://rotaryclubofsalem.org/event/club-meeting-246/
LOCATION:Salem Civic Center\, 1001 Roanoke Boulevard\, Salem\, VA\, 24153\, United States
CATEGORIES:Club Meetings
END:VEVENT
BEGIN:VEVENT
DTSTART;TZID=America/New_York:20190314T120000
DTEND;TZID=America/New_York:20190314T130000
DTSTAMP:20260419T231943
CREATED:20180916T205110Z
LAST-MODIFIED:20180916T205110Z
UID:6162-1552564800-1552568400@rotaryclubofsalem.org
SUMMARY:Club Meeting
DESCRIPTION:Jostens Trophy Presentation
URL:https://rotaryclubofsalem.org/event/club-meeting-245/
LOCATION:Salem Civic Center\, 1001 Roanoke Boulevard\, Salem\, VA\, 24153\, United States
CATEGORIES:Club Meetings
END:VEVENT
BEGIN:VEVENT
DTSTART;TZID=America/New_York:20190307T120000
DTEND;TZID=America/New_York:20190307T130000
DTSTAMP:20260419T231943
CREATED:20180916T205021Z
LAST-MODIFIED:20180916T205021Z
UID:6160-1551960000-1551963600@rotaryclubofsalem.org
SUMMARY:Club Meeting
DESCRIPTION:TBA
URL:https://rotaryclubofsalem.org/event/club-meeting-244/
LOCATION:Salem Civic Center\, 1001 Roanoke Boulevard\, Salem\, VA\, 24153\, United States
CATEGORIES:Club Meetings
END:VEVENT
BEGIN:VEVENT
DTSTART;TZID=America/New_York:20190228T120000
DTEND;TZID=America/New_York:20190228T130000
DTSTAMP:20260419T231943
CREATED:20180916T204914Z
LAST-MODIFIED:20180916T204914Z
UID:6158-1551355200-1551358800@rotaryclubofsalem.org
SUMMARY:Club Meeting
DESCRIPTION:ODAC Tournament Quarterfinal Game
URL:https://rotaryclubofsalem.org/event/club-meeting-243/
LOCATION:Salem Civic Center\, 1001 Roanoke Boulevard\, Salem\, VA\, 24153\, United States
CATEGORIES:Club Meetings
END:VEVENT
BEGIN:VEVENT
DTSTART;TZID=America/New_York:20190221T120000
DTEND;TZID=America/New_York:20190221T130000
DTSTAMP:20260419T231943
CREATED:20180916T204822Z
LAST-MODIFIED:20180916T204822Z
UID:6156-1550750400-1550754000@rotaryclubofsalem.org
SUMMARY:Club Meeting
DESCRIPTION:TBA
URL:https://rotaryclubofsalem.org/event/club-meeting-242/
LOCATION:Salem Civic Center\, 1001 Roanoke Boulevard\, Salem\, VA\, 24153\, United States
CATEGORIES:Club Meetings
END:VEVENT
BEGIN:VEVENT
DTSTART;TZID=America/New_York:20190214T120000
DTEND;TZID=America/New_York:20190214T130000
DTSTAMP:20260419T231943
CREATED:20180916T204724Z
LAST-MODIFIED:20180916T204724Z
UID:6154-1550145600-1550149200@rotaryclubofsalem.org
SUMMARY:Club Meeting
DESCRIPTION:TBA
URL:https://rotaryclubofsalem.org/event/club-meeting-241/
LOCATION:Salem Civic Center\, 1001 Roanoke Boulevard\, Salem\, VA\, 24153\, United States
CATEGORIES:Club Meetings
END:VEVENT
BEGIN:VEVENT
DTSTART;TZID=America/New_York:20190207T120000
DTEND;TZID=America/New_York:20190207T130000
DTSTAMP:20260419T231943
CREATED:20180916T204628Z
LAST-MODIFIED:20180916T204628Z
UID:6152-1549540800-1549544400@rotaryclubofsalem.org
SUMMARY:Club Meeting
DESCRIPTION:TBA
URL:https://rotaryclubofsalem.org/event/club-meeting-240/
LOCATION:Salem Civic Center\, 1001 Roanoke Boulevard\, Salem\, VA\, 24153\, United States
CATEGORIES:Club Meetings
END:VEVENT
BEGIN:VEVENT
DTSTART;TZID=America/New_York:20190131T120000
DTEND;TZID=America/New_York:20190131T130000
DTSTAMP:20260419T231943
CREATED:20180916T204525Z
LAST-MODIFIED:20180916T204525Z
UID:6150-1548936000-1548939600@rotaryclubofsalem.org
SUMMARY:Club Meeting
DESCRIPTION:TBA
URL:https://rotaryclubofsalem.org/event/club-meeting-239/
LOCATION:Salem Civic Center\, 1001 Roanoke Boulevard\, Salem\, VA\, 24153\, United States
CATEGORIES:Club Meetings
END:VEVENT
BEGIN:VEVENT
DTSTART;TZID=America/New_York:20190124T120000
DTEND;TZID=America/New_York:20190124T130000
DTSTAMP:20260419T231943
CREATED:20180916T204424Z
LAST-MODIFIED:20180916T204424Z
UID:6148-1548331200-1548334800@rotaryclubofsalem.org
SUMMARY:Club Meeting
DESCRIPTION:“Service Above Self” Award
URL:https://rotaryclubofsalem.org/event/club-meeting-238/
LOCATION:Salem Civic Center\, 1001 Roanoke Boulevard\, Salem\, VA\, 24153\, United States
CATEGORIES:Club Meetings
END:VEVENT
BEGIN:VEVENT
DTSTART;TZID=America/New_York:20190117T120000
DTEND;TZID=America/New_York:20190117T130000
DTSTAMP:20260419T231943
CREATED:20180916T204331Z
LAST-MODIFIED:20180916T204331Z
UID:6146-1547726400-1547730000@rotaryclubofsalem.org
SUMMARY:Club Meeting
DESCRIPTION:TBA
URL:https://rotaryclubofsalem.org/event/club-meeting-237/
LOCATION:Salem Civic Center\, 1001 Roanoke Boulevard\, Salem\, VA\, 24153\, United States
CATEGORIES:Club Meetings
END:VEVENT
BEGIN:VEVENT
DTSTART;TZID=America/New_York:20190110T120000
DTEND;TZID=America/New_York:20190110T130000
DTSTAMP:20260419T231943
CREATED:20180916T204232Z
LAST-MODIFIED:20180916T204232Z
UID:6144-1547121600-1547125200@rotaryclubofsalem.org
SUMMARY:Club Meeting
DESCRIPTION:TBA
URL:https://rotaryclubofsalem.org/event/club-meeting-236/
LOCATION:Salem Civic Center\, 1001 Roanoke Boulevard\, Salem\, VA\, 24153\, United States
CATEGORIES:Club Meetings
END:VEVENT
BEGIN:VEVENT
DTSTART;TZID=America/New_York:20190103T120000
DTEND;TZID=America/New_York:20190103T130000
DTSTAMP:20260419T231943
CREATED:20180916T204127Z
LAST-MODIFIED:20180916T204127Z
UID:6142-1546516800-1546520400@rotaryclubofsalem.org
SUMMARY:Club Meeting
DESCRIPTION:Happy New Year! 2018 Predictions from Salem Rotarians
URL:https://rotaryclubofsalem.org/event/club-meeting-235/
LOCATION:Salem Civic Center\, 1001 Roanoke Boulevard\, Salem\, VA\, 24153\, United States
CATEGORIES:Club Meetings
END:VEVENT
BEGIN:VEVENT
DTSTART;TZID=America/New_York:20181227T120000
DTEND;TZID=America/New_York:20181227T130000
DTSTAMP:20260419T231943
CREATED:20180916T203902Z
LAST-MODIFIED:20180916T203902Z
UID:6140-1545912000-1545915600@rotaryclubofsalem.org
SUMMARY:Club Meeting
DESCRIPTION:TBA
URL:https://rotaryclubofsalem.org/event/club-meeting-234/
LOCATION:Salem Civic Center\, 1001 Roanoke Boulevard\, Salem\, VA\, 24153\, United States
CATEGORIES:Club Meetings
END:VEVENT
BEGIN:VEVENT
DTSTART;TZID=America/New_York:20181220T120000
DTEND;TZID=America/New_York:20181220T130000
DTSTAMP:20260419T231943
CREATED:20180916T203800Z
LAST-MODIFIED:20180916T203800Z
UID:6138-1545307200-1545310800@rotaryclubofsalem.org
SUMMARY:Club Meeting
DESCRIPTION:Christmas Program
URL:https://rotaryclubofsalem.org/event/club-meeting-233/
LOCATION:Salem Civic Center\, 1001 Roanoke Boulevard\, Salem\, VA\, 24153\, United States
CATEGORIES:Club Meetings
END:VEVENT
END:VCALENDAR