BEGIN:VCALENDAR
VERSION:2.0
PRODID:-//Rotary Club of Salem - ECPv6.15.11//NONSGML v1.0//EN
CALSCALE:GREGORIAN
METHOD:PUBLISH
X-WR-CALNAME:Rotary Club of Salem
X-ORIGINAL-URL:https://rotaryclubofsalem.org
X-WR-CALDESC:Events for Rotary Club of Salem
REFRESH-INTERVAL;VALUE=DURATION:PT1H
X-Robots-Tag:noindex
X-PUBLISHED-TTL:PT1H
BEGIN:VTIMEZONE
TZID:America/New_York
BEGIN:DAYLIGHT
TZOFFSETFROM:-0500
TZOFFSETTO:-0400
TZNAME:EDT
DTSTART:20180311T070000
END:DAYLIGHT
BEGIN:STANDARD
TZOFFSETFROM:-0400
TZOFFSETTO:-0500
TZNAME:EST
DTSTART:20181104T060000
END:STANDARD
BEGIN:DAYLIGHT
TZOFFSETFROM:-0500
TZOFFSETTO:-0400
TZNAME:EDT
DTSTART:20190310T070000
END:DAYLIGHT
BEGIN:STANDARD
TZOFFSETFROM:-0400
TZOFFSETTO:-0500
TZNAME:EST
DTSTART:20191103T060000
END:STANDARD
BEGIN:DAYLIGHT
TZOFFSETFROM:-0500
TZOFFSETTO:-0400
TZNAME:EDT
DTSTART:20200308T070000
END:DAYLIGHT
BEGIN:STANDARD
TZOFFSETFROM:-0400
TZOFFSETTO:-0500
TZNAME:EST
DTSTART:20201101T060000
END:STANDARD
BEGIN:DAYLIGHT
TZOFFSETFROM:-0500
TZOFFSETTO:-0400
TZNAME:EDT
DTSTART:20210314T070000
END:DAYLIGHT
BEGIN:STANDARD
TZOFFSETFROM:-0400
TZOFFSETTO:-0500
TZNAME:EST
DTSTART:20211107T060000
END:STANDARD
END:VTIMEZONE
BEGIN:VEVENT
DTSTART;TZID=America/New_York:20200305T120000
DTEND;TZID=America/New_York:20200305T130000
DTSTAMP:20260419T184525
CREATED:20200130T191244Z
LAST-MODIFIED:20200130T191244Z
UID:6412-1583409600-1583413200@rotaryclubofsalem.org
SUMMARY:Club Meeting
DESCRIPTION:Today’s program will be… “The Battle of Hanging Rock” – Alex Burke\, Assistant Director\, Salem Museum
URL:https://rotaryclubofsalem.org/event/club-meeting-282/
LOCATION:Salem Civic Center\, 1001 Roanoke Boulevard\, Salem\, VA\, 24153\, United States
CATEGORIES:Club Meetings
END:VEVENT
BEGIN:VEVENT
DTSTART;TZID=America/New_York:20200227T120000
DTEND;TZID=America/New_York:20200227T130000
DTSTAMP:20260419T184525
CREATED:20200130T190956Z
LAST-MODIFIED:20200130T190956Z
UID:6410-1582804800-1582808400@rotaryclubofsalem.org
SUMMARY:Club Meeting - Courtside
DESCRIPTION:Today we shall have lunch courtside\, then sign our National Anthem prior to tip-off of an ODAC quarterfinal game.
URL:https://rotaryclubofsalem.org/event/club-meeting-courtside/
LOCATION:Salem Civic Center\, 1001 Roanoke Boulevard\, Salem\, VA\, 24153\, United States
CATEGORIES:Club Meetings,Fund Raiser - ODAC
END:VEVENT
BEGIN:VEVENT
DTSTART;TZID=America/New_York:20200220T120000
DTEND;TZID=America/New_York:20200220T130000
DTSTAMP:20260419T184525
CREATED:20200130T190357Z
LAST-MODIFIED:20200130T190357Z
UID:6408-1582200000-1582203600@rotaryclubofsalem.org
SUMMARY:Club Meeting
DESCRIPTION:Today’s program will be… “The Hollins Experience” – Alex Sanchez\, Student-Athlete & Myra Sims\, Dir. Of Athletics
URL:https://rotaryclubofsalem.org/event/club-meeting-281/
LOCATION:Salem Civic Center\, 1001 Roanoke Boulevard\, Salem\, VA\, 24153\, United States
CATEGORIES:Club Meetings
END:VEVENT
BEGIN:VEVENT
DTSTART;TZID=America/New_York:20200213T120000
DTEND;TZID=America/New_York:20200213T130000
DTSTAMP:20260419T184525
CREATED:20200130T190120Z
LAST-MODIFIED:20200130T190120Z
UID:6406-1581595200-1581598800@rotaryclubofsalem.org
SUMMARY:Club Meeting
DESCRIPTION:Today’s program will be… “ODAC Student-Athlete to National Racquetball Champion” – Kelani Lawrence
URL:https://rotaryclubofsalem.org/event/club-meeting-280/
LOCATION:Salem Civic Center\, 1001 Roanoke Boulevard\, Salem\, VA\, 24153\, United States
CATEGORIES:Club Meetings,Community Service,Fund Raiser - ODAC
END:VEVENT
BEGIN:VEVENT
DTSTART;TZID=America/New_York:20200206T120000
DTEND;TZID=America/New_York:20200206T130000
DTSTAMP:20260419T184525
CREATED:20200130T185913Z
LAST-MODIFIED:20200130T185913Z
UID:6404-1580990400-1580994000@rotaryclubofsalem.org
SUMMARY:Club Meeting
DESCRIPTION:Today’s program will be…  ODAC – “Habitat and the ODAC – An Enduring Partnership” – Rev. Paul Henrickson
URL:https://rotaryclubofsalem.org/event/club-meeting-279/
LOCATION:Salem Civic Center\, 1001 Roanoke Boulevard\, Salem\, VA\, 24153\, United States
CATEGORIES:Club Meetings,Community Service,Fund Raiser - ODAC
END:VEVENT
BEGIN:VEVENT
DTSTART;VALUE=DATE:20191226
DTEND;VALUE=DATE:20191227
DTSTAMP:20260419T184525
CREATED:20191223T210801Z
LAST-MODIFIED:20191223T210801Z
UID:6384-1577318400-1577404799@rotaryclubofsalem.org
SUMMARY:No Club Meeting
DESCRIPTION:No Club Meeting today. We hope all members and family enjoy safe travels and a happy Christmas holiday!
URL:https://rotaryclubofsalem.org/event/no-club-meeting-3/
LOCATION:VA
CATEGORIES:Club Fellowship,Club Meetings
END:VEVENT
BEGIN:VEVENT
DTSTART;TZID=America/New_York:20191212T180000
DTEND;TZID=America/New_York:20191212T193000
DTSTAMP:20260419T184525
CREATED:20190905T173806Z
LAST-MODIFIED:20191205T150814Z
UID:6369-1576173600-1576179000@rotaryclubofsalem.org
SUMMARY:Please Note Time Change
DESCRIPTION:First Annual Rotary Club of Salem Family Christmas Dinner! \nPlease bring your family to this celebration! \nMake your reservations during the Rotary meeting Dec. 5th.
URL:https://rotaryclubofsalem.org/event/club-meeting-278/
LOCATION:Salem Civic Center\, 1001 Roanoke Boulevard\, Salem\, VA\, 24153\, United States
CATEGORIES:Club Fellowship,Club Meetings
END:VEVENT
BEGIN:VEVENT
DTSTART;TZID=America/New_York:20191205T120000
DTEND;TZID=America/New_York:20191205T130000
DTSTAMP:20260419T184525
CREATED:20190905T173638Z
LAST-MODIFIED:20190905T173638Z
UID:6367-1575547200-1575550800@rotaryclubofsalem.org
SUMMARY:Club Meeting
DESCRIPTION:Today’s program is… Lee A. Learman\, MD\, PhD – Dean and Professor\, Virginia Tech Carilion School of Medicine
URL:https://rotaryclubofsalem.org/event/club-meeting-277/
LOCATION:Salem Civic Center\, 1001 Roanoke Boulevard\, Salem\, VA\, 24153\, United States
CATEGORIES:Club Meetings
END:VEVENT
BEGIN:VEVENT
DTSTART;TZID=America/New_York:20191128T120000
DTEND;TZID=America/New_York:20191128T130000
DTSTAMP:20260419T184525
CREATED:20190905T173356Z
LAST-MODIFIED:20190905T173356Z
UID:6365-1574942400-1574946000@rotaryclubofsalem.org
SUMMARY:No Club Meeting
DESCRIPTION: A Happy Thanksgiving to members and their families!
URL:https://rotaryclubofsalem.org/event/no-club-meeting-2/
LOCATION:Salem Civic Center\, 1001 Roanoke Boulevard\, Salem\, VA\, 24153\, United States
CATEGORIES:Club Meetings
END:VEVENT
BEGIN:VEVENT
DTSTART;TZID=America/New_York:20191121T120000
DTEND;TZID=America/New_York:20191121T130000
DTSTAMP:20260419T184525
CREATED:20190905T173052Z
LAST-MODIFIED:20190905T173052Z
UID:6363-1574337600-1574341200@rotaryclubofsalem.org
SUMMARY:Club Meeting
DESCRIPTION:The topic of today’s program is… Christmas for Kids
URL:https://rotaryclubofsalem.org/event/club-meeting-276/
LOCATION:Salem Civic Center\, 1001 Roanoke Boulevard\, Salem\, VA\, 24153\, United States
CATEGORIES:Club Meetings,Community Service
END:VEVENT
BEGIN:VEVENT
DTSTART;TZID=America/New_York:20191114T120000
DTEND;TZID=America/New_York:20191114T130000
DTSTAMP:20260419T184525
CREATED:20190905T172916Z
LAST-MODIFIED:20190905T172916Z
UID:6361-1573732800-1573736400@rotaryclubofsalem.org
SUMMARY:Club Meeting
DESCRIPTION:The topic of today’s program is… Paul Harris Fellow Awards
URL:https://rotaryclubofsalem.org/event/club-meeting-275/
LOCATION:Salem Civic Center\, 1001 Roanoke Boulevard\, Salem\, VA\, 24153\, United States
CATEGORIES:Club Meetings,RI
END:VEVENT
BEGIN:VEVENT
DTSTART;TZID=America/New_York:20191107T120000
DTEND;TZID=America/New_York:20191107T130000
DTSTAMP:20260419T184525
CREATED:20190905T172724Z
LAST-MODIFIED:20190905T172724Z
UID:6359-1573128000-1573131600@rotaryclubofsalem.org
SUMMARY:Club Meeting
DESCRIPTION:Today’s program is… Terrianne Julian – The Roanoke Hospitality House
URL:https://rotaryclubofsalem.org/event/club-meeting-274/
LOCATION:Salem Civic Center\, 1001 Roanoke Boulevard\, Salem\, VA\, 24153\, United States
CATEGORIES:Club Meetings
END:VEVENT
BEGIN:VEVENT
DTSTART;TZID=America/New_York:20191031T120000
DTEND;TZID=America/New_York:20191031T130000
DTSTAMP:20260419T184525
CREATED:20190905T172557Z
LAST-MODIFIED:20190905T172557Z
UID:6357-1572523200-1572526800@rotaryclubofsalem.org
SUMMARY:Club Meeting
DESCRIPTION:Today’s program is… ODAC COACHES – WOMEN
URL:https://rotaryclubofsalem.org/event/club-meeting-273/
LOCATION:Salem Civic Center\, 1001 Roanoke Boulevard\, Salem\, VA\, 24153\, United States
CATEGORIES:Club Meetings,Fund Raiser - ODAC
END:VEVENT
BEGIN:VEVENT
DTSTART;TZID=America/New_York:20191024T120000
DTEND;TZID=America/New_York:20191024T130000
DTSTAMP:20260419T184525
CREATED:20190905T172435Z
LAST-MODIFIED:20190905T172435Z
UID:6355-1571918400-1571922000@rotaryclubofsalem.org
SUMMARY:Club Meeting
DESCRIPTION:Today’s program is… ODAC COACHES – MEN
URL:https://rotaryclubofsalem.org/event/club-meeting-272/
LOCATION:Salem Civic Center\, 1001 Roanoke Boulevard\, Salem\, VA\, 24153\, United States
CATEGORIES:Club Meetings,Fund Raiser - ODAC
END:VEVENT
BEGIN:VEVENT
DTSTART;TZID=America/New_York:20191017T120000
DTEND;TZID=America/New_York:20191017T130000
DTSTAMP:20260419T184525
CREATED:20190905T172128Z
LAST-MODIFIED:20190905T172128Z
UID:6353-1571313600-1571317200@rotaryclubofsalem.org
SUMMARY:Club Meeting
DESCRIPTION:The topic of today’s program is… “World Polio Day”
URL:https://rotaryclubofsalem.org/event/club-meeting-271/
LOCATION:Salem Civic Center\, 1001 Roanoke Boulevard\, Salem\, VA\, 24153\, United States
CATEGORIES:Club Meetings,International Service
END:VEVENT
BEGIN:VEVENT
DTSTART;TZID=America/New_York:20191010T120000
DTEND;TZID=America/New_York:20191010T130000
DTSTAMP:20260419T184525
CREATED:20190905T171859Z
LAST-MODIFIED:20190905T171859Z
UID:6351-1570708800-1570712400@rotaryclubofsalem.org
SUMMARY:Club Meeting
DESCRIPTION:Today’s program is… State Senate Candidates Sen. Dave Suetterlein and Flo Ketner
URL:https://rotaryclubofsalem.org/event/club-meeting-270/
LOCATION:Salem Civic Center\, 1001 Roanoke Boulevard\, Salem\, VA\, 24153\, United States
CATEGORIES:Club Meetings
END:VEVENT
BEGIN:VEVENT
DTSTART;TZID=America/New_York:20191003T120000
DTEND;TZID=America/New_York:20191003T130000
DTSTAMP:20260419T184525
CREATED:20190905T171740Z
LAST-MODIFIED:20190905T171740Z
UID:6349-1570104000-1570107600@rotaryclubofsalem.org
SUMMARY:Club Meeting
DESCRIPTION:Today’s program is… House of Delegates Candidates Del. Joe McNamara and Darlene Lewis
URL:https://rotaryclubofsalem.org/event/club-meeting-269/
LOCATION:Salem Civic Center\, 1001 Roanoke Boulevard\, Salem\, VA\, 24153\, United States
CATEGORIES:Club Meetings
END:VEVENT
BEGIN:VEVENT
DTSTART;TZID=America/New_York:20190926T120000
DTEND;TZID=America/New_York:20190926T130000
DTSTAMP:20260419T184525
CREATED:20190905T171514Z
LAST-MODIFIED:20190905T171514Z
UID:6347-1569499200-1569502800@rotaryclubofsalem.org
SUMMARY:Club Meeting
DESCRIPTION:The topic of today’s program is… Carilion Clinic CEO Nancy Agee
URL:https://rotaryclubofsalem.org/event/club-meeting-268/
LOCATION:Salem Civic Center\, 1001 Roanoke Boulevard\, Salem\, VA\, 24153\, United States
CATEGORIES:Club Meetings
END:VEVENT
BEGIN:VEVENT
DTSTART;TZID=America/New_York:20190919T120000
DTEND;TZID=America/New_York:20190919T130000
DTSTAMP:20260419T184525
CREATED:20190905T171336Z
LAST-MODIFIED:20190905T171336Z
UID:6345-1568894400-1568898000@rotaryclubofsalem.org
SUMMARY:Club Meeting
DESCRIPTION:The topic of today’s program is… Blaine Elliott & Team – Group Study Exchange to Taiwan March 2019
URL:https://rotaryclubofsalem.org/event/club-meeting-267/
LOCATION:Salem Civic Center\, 1001 Roanoke Boulevard\, Salem\, VA\, 24153\, United States
CATEGORIES:Club Meetings,International Service
END:VEVENT
BEGIN:VEVENT
DTSTART;TZID=America/New_York:20190912T120000
DTEND;TZID=America/New_York:20190912T130000
DTSTAMP:20260419T184525
CREATED:20190905T171116Z
LAST-MODIFIED:20190905T171116Z
UID:6343-1568289600-1568293200@rotaryclubofsalem.org
SUMMARY:Club Meeting
DESCRIPTION:The topic of today’s program is…  “Appalachian Power Update”
URL:https://rotaryclubofsalem.org/event/club-meeting-266/
LOCATION:Salem Civic Center\, 1001 Roanoke Boulevard\, Salem\, VA\, 24153\, United States
CATEGORIES:Club Meetings
END:VEVENT
BEGIN:VEVENT
DTSTART;TZID=America/New_York:20190829T120000
DTEND;TZID=America/New_York:20190829T130000
DTSTAMP:20260419T184525
CREATED:20190720T165534Z
LAST-MODIFIED:20190720T165534Z
UID:6298-1567080000-1567083600@rotaryclubofsalem.org
SUMMARY:Club Meeting
DESCRIPTION:Our annual celebration of the upcoming football season…  “Are You Ready for Some Football?” presented by Dan Wooldridge and Don Holter
URL:https://rotaryclubofsalem.org/event/club-meeting-265/
LOCATION:Salem Civic Center\, 1001 Roanoke Boulevard\, Salem\, VA\, 24153\, United States
CATEGORIES:Club Meetings
END:VEVENT
BEGIN:VEVENT
DTSTART;TZID=America/New_York:20190822T120000
DTEND;TZID=America/New_York:20190822T130000
DTSTAMP:20260419T184525
CREATED:20190720T165216Z
LAST-MODIFIED:20190720T165216Z
UID:6296-1566475200-1566478800@rotaryclubofsalem.org
SUMMARY:Club Meeting
DESCRIPTION:Charlie Thompson will present “Attendance Awards and Rotary Information”.
URL:https://rotaryclubofsalem.org/event/club-meeting-264/
LOCATION:Salem Civic Center\, 1001 Roanoke Boulevard\, Salem\, VA\, 24153\, United States
CATEGORIES:Club Meetings,Club Service
END:VEVENT
BEGIN:VEVENT
DTSTART;TZID=America/New_York:20190815T120000
DTEND;TZID=America/New_York:20190815T130000
DTSTAMP:20260419T184525
CREATED:20190720T164939Z
LAST-MODIFIED:20190720T164939Z
UID:6294-1565870400-1565874000@rotaryclubofsalem.org
SUMMARY:Club Meeting
DESCRIPTION:Our program is “Short-Term Rotary Youth Exchanges”\, presented by Paige Netting and Hanna Pol 
URL:https://rotaryclubofsalem.org/event/club-meeting-263/
LOCATION:Salem Civic Center\, 1001 Roanoke Boulevard\, Salem\, VA\, 24153\, United States
CATEGORIES:Club Meetings
END:VEVENT
BEGIN:VEVENT
DTSTART;TZID=America/New_York:20190808T180000
DTEND;TZID=America/New_York:20190808T213000
DTSTAMP:20260419T184525
CREATED:20190720T164643Z
LAST-MODIFIED:20190720T164643Z
UID:6292-1565287200-1565299800@rotaryclubofsalem.org
SUMMARY:Club Meeting & Social
DESCRIPTION:Change of pace from normal routine.  Bring family and friends for fun & fellowship to Salem Beermongers Baseball Game against Lynchburg.  6:00pm Picnic\, 7:00pm Game
URL:https://rotaryclubofsalem.org/event/club-meeting-social-2/
LOCATION:Salem Red Sox Haley Toyota Field\, 1008 Texas Street\, Salem\, VA\, 24153\, United States
CATEGORIES:Club Fellowship,Club Meetings
END:VEVENT
BEGIN:VEVENT
DTSTART;TZID=America/New_York:20190801T120000
DTEND;TZID=America/New_York:20190801T130000
DTSTAMP:20260419T184525
CREATED:20190720T163505Z
LAST-MODIFIED:20190729T190050Z
UID:6290-1564660800-1564664400@rotaryclubofsalem.org
SUMMARY:Club Meeting
DESCRIPTION:NOTE: Location Changed to Salem High School…  Our program will be Dr. Alan Siebert with an update on  our Salem High School.
URL:https://rotaryclubofsalem.org/event/club-meeting-262/
LOCATION:Salem High School\, 400 Spartan Drive\, Salemlem\, 24153\, United States
CATEGORIES:Club Meetings
END:VEVENT
BEGIN:VEVENT
DTSTART;TZID=America/New_York:20190725T120000
DTEND;TZID=America/New_York:20190725T130000
DTSTAMP:20260419T184525
CREATED:20190720T163037Z
LAST-MODIFIED:20190720T163037Z
UID:6288-1564056000-1564059600@rotaryclubofsalem.org
SUMMARY:Club Meeting
DESCRIPTION:Our speaker today is Lateefah Trent – Mentor Coordinator\, Total Action for Progress\, her topic is “The Fathers First initiative”.
URL:https://rotaryclubofsalem.org/event/club-meeting-261/
LOCATION:Salem Civic Center\, 1001 Roanoke Boulevard\, Salem\, VA\, 24153\, United States
CATEGORIES:Club Meetings
END:VEVENT
BEGIN:VEVENT
DTSTART;TZID=America/New_York:20190627T120000
DTEND;TZID=America/New_York:20190627T130000
DTSTAMP:20260419T184525
CREATED:20180916T210453Z
LAST-MODIFIED:20180916T210453Z
UID:6192-1561636800-1561640400@rotaryclubofsalem.org
SUMMARY:Club Meeting
DESCRIPTION:Last Meeting!
URL:https://rotaryclubofsalem.org/event/club-meeting-260/
LOCATION:Salem Civic Center\, 1001 Roanoke Boulevard\, Salem\, VA\, 24153\, United States
CATEGORIES:Club Meetings
END:VEVENT
BEGIN:VEVENT
DTSTART;TZID=America/New_York:20190620T120000
DTEND;TZID=America/New_York:20190620T130000
DTSTAMP:20260419T184525
CREATED:20180916T210355Z
LAST-MODIFIED:20180916T210355Z
UID:6190-1561032000-1561035600@rotaryclubofsalem.org
SUMMARY:Club Meeting
DESCRIPTION:TBA
URL:https://rotaryclubofsalem.org/event/club-meeting-259/
LOCATION:Salem Civic Center\, 1001 Roanoke Boulevard\, Salem\, VA\, 24153\, United States
CATEGORIES:Club Meetings
END:VEVENT
BEGIN:VEVENT
DTSTART;TZID=America/New_York:20190613T120000
DTEND;TZID=America/New_York:20190613T130000
DTSTAMP:20260419T184525
CREATED:20180916T210254Z
LAST-MODIFIED:20180916T210254Z
UID:6188-1560427200-1560430800@rotaryclubofsalem.org
SUMMARY:Club Meeting
DESCRIPTION:TBA
URL:https://rotaryclubofsalem.org/event/club-meeting-258/
LOCATION:Salem Civic Center\, 1001 Roanoke Boulevard\, Salem\, VA\, 24153\, United States
CATEGORIES:Club Meetings
END:VEVENT
BEGIN:VEVENT
DTSTART;TZID=America/New_York:20190606T120000
DTEND;TZID=America/New_York:20190606T130000
DTSTAMP:20260419T184525
CREATED:20180916T210204Z
LAST-MODIFIED:20180916T210204Z
UID:6186-1559822400-1559826000@rotaryclubofsalem.org
SUMMARY:Club Meeting
DESCRIPTION:TBA
URL:https://rotaryclubofsalem.org/event/club-meeting-257/
LOCATION:Salem Civic Center\, 1001 Roanoke Boulevard\, Salem\, VA\, 24153\, United States
CATEGORIES:Club Meetings
END:VEVENT
END:VCALENDAR