BEGIN:VCALENDAR
VERSION:2.0
PRODID:-//Rotary Club of Salem - ECPv6.15.11//NONSGML v1.0//EN
CALSCALE:GREGORIAN
METHOD:PUBLISH
X-WR-CALNAME:Rotary Club of Salem
X-ORIGINAL-URL:https://rotaryclubofsalem.org
X-WR-CALDESC:Events for Rotary Club of Salem
REFRESH-INTERVAL;VALUE=DURATION:PT1H
X-Robots-Tag:noindex
X-PUBLISHED-TTL:PT1H
BEGIN:VTIMEZONE
TZID:America/New_York
BEGIN:DAYLIGHT
TZOFFSETFROM:-0500
TZOFFSETTO:-0400
TZNAME:EDT
DTSTART:20170312T070000
END:DAYLIGHT
BEGIN:STANDARD
TZOFFSETFROM:-0400
TZOFFSETTO:-0500
TZNAME:EST
DTSTART:20171105T060000
END:STANDARD
BEGIN:DAYLIGHT
TZOFFSETFROM:-0500
TZOFFSETTO:-0400
TZNAME:EDT
DTSTART:20180311T070000
END:DAYLIGHT
BEGIN:STANDARD
TZOFFSETFROM:-0400
TZOFFSETTO:-0500
TZNAME:EST
DTSTART:20181104T060000
END:STANDARD
BEGIN:DAYLIGHT
TZOFFSETFROM:-0500
TZOFFSETTO:-0400
TZNAME:EDT
DTSTART:20190310T070000
END:DAYLIGHT
BEGIN:STANDARD
TZOFFSETFROM:-0400
TZOFFSETTO:-0500
TZNAME:EST
DTSTART:20191103T060000
END:STANDARD
BEGIN:DAYLIGHT
TZOFFSETFROM:-0500
TZOFFSETTO:-0400
TZNAME:EDT
DTSTART:20200308T070000
END:DAYLIGHT
BEGIN:STANDARD
TZOFFSETFROM:-0400
TZOFFSETTO:-0500
TZNAME:EST
DTSTART:20201101T060000
END:STANDARD
END:VTIMEZONE
BEGIN:VEVENT
DTSTART;TZID=America/New_York:20190808T180000
DTEND;TZID=America/New_York:20190808T213000
DTSTAMP:20260423T045018
CREATED:20190720T164643Z
LAST-MODIFIED:20190720T164643Z
UID:6292-1565287200-1565299800@rotaryclubofsalem.org
SUMMARY:Club Meeting & Social
DESCRIPTION:Change of pace from normal routine.  Bring family and friends for fun & fellowship to Salem Beermongers Baseball Game against Lynchburg.  6:00pm Picnic\, 7:00pm Game
URL:https://rotaryclubofsalem.org/event/club-meeting-social-2/
LOCATION:Salem Red Sox Haley Toyota Field\, 1008 Texas Street\, Salem\, VA\, 24153\, United States
CATEGORIES:Club Fellowship,Club Meetings
END:VEVENT
BEGIN:VEVENT
DTSTART;VALUE=DATE:20190315
DTEND;VALUE=DATE:20190318
DTSTAMP:20260423T045018
CREATED:20181213T200309Z
LAST-MODIFIED:20181213T200309Z
UID:6212-1552608000-1552867199@rotaryclubofsalem.org
SUMMARY:2019 DISTRICT 7570 CONFERENCE
DESCRIPTION:Your District 7570 District Conference Planning Committee is excited to announce a new web site dedicated to providing a central point of information for all subjects related to the 2019 District Conference.  Please bookmark this site for ease of access: www.Rotary7570conference.com. \nThe conference will be held at the Omni Homestead Resort click here to book your rooms.  Take advantage of early bird room offer.  Go to D7570 conference site above for all the details.
URL:https://rotaryclubofsalem.org/event/2019-district-7570-conference/
LOCATION:The Omni Homestead Resort\, 7696 Sam Snead Highway\, Hot Springs\, VA\, 24445\, United States
CATEGORIES:Club Fellowship,D7570
END:VEVENT
BEGIN:VEVENT
DTSTART;TZID=America/New_York:20180829T170000
DTEND;TZID=America/New_York:20180829T220000
DTSTAMP:20260423T045018
CREATED:20180807T154919Z
LAST-MODIFIED:20180807T163449Z
UID:6084-1535562000-1535580000@rotaryclubofsalem.org
SUMMARY:12th Annual Star B-Q
DESCRIPTION:Join us for a night full of country music at the Salem Farmers Market.\nfeaturing headliner Maddie & Tae\nwith opening act Crawford & Power. \nTickets are $8 in advance\, $12 the day of event\nChildren 10 and under are free\nGates open at 5:00 p.m. \nCrawford & Power – 6:00 p.m.\nMaddie & Tae – 7:30 p.m. \nPurchase your tickets here!
URL:https://rotaryclubofsalem.org/event/12th-annual-star-b-q/
LOCATION:Salem Farmers Market\, Broad St and Main St.\, Salem\, 24153\, United States
CATEGORIES:Club Fellowship,Community Service
END:VEVENT
BEGIN:VEVENT
DTSTART;TZID=America/New_York:20180823T180000
DTEND;TZID=America/New_York:20180823T220000
DTSTAMP:20260423T045018
CREATED:20180712T175422Z
LAST-MODIFIED:20180724T163732Z
UID:6072-1535047200-1535061600@rotaryclubofsalem.org
SUMMARY:Club Fellowship Baseball Night
DESCRIPTION:We are having our annual baseball family outing tonight.  Picnic dinner before the game at 6:00 PM on first base side deck. Then at 7:05 PM root for our Salem Red Sox against the Frederick Keys (Orioles) .  More details to follow!  Tickets will be at the Will Call window.  RSVP to Tom Mohr or sign up at upcoming Club Meeting.  Safe the date! \nPLEASE NOTE: NO LUNCH MEETING THIS THURSDAY THE 23RD!
URL:https://rotaryclubofsalem.org/event/club-fellowship-baseball-night/
LOCATION:Salem Red Sox Haley Toyota Field\, 1008 Texas Street\, Salem\, VA\, 24153\, United States
CATEGORIES:Club Fellowship,Club Meetings
END:VEVENT
BEGIN:VEVENT
DTSTART;TZID=America/New_York:20180817T180000
DTEND;TZID=America/New_York:20180817T220000
DTSTAMP:20260423T045018
CREATED:20180712T173351Z
LAST-MODIFIED:20180724T164225Z
UID:6068-1534528800-1534543200@rotaryclubofsalem.org
SUMMARY:Governor's Ball Game
DESCRIPTION:D7570 District Governor George Karnes has schedule a fellowship event for all the area Rotary clubs. Though open to all members\, officers and directors are encouraged to attend. The event will begin at 6:00 p.m. Seating will be in one of the boxes along the first base line.  RSVP to Linda Worman.  More info to follow…
URL:https://rotaryclubofsalem.org/event/governors-ball-game/
LOCATION:Salem Red Sox Haley Toyota Field\, 1008 Texas Street\, Salem\, VA\, 24153\, United States
CATEGORIES:Club Fellowship,D7570
END:VEVENT
END:VCALENDAR